BEGIN:VCALENDAR
VERSION:2.0
PRODID:-//Clayton County&#039;s Digital Equity Initiative - ECPv6.15.17//NONSGML v1.0//EN
CALSCALE:GREGORIAN
METHOD:PUBLISH
X-WR-CALNAME:Clayton County&#039;s Digital Equity Initiative
X-ORIGINAL-URL:https://digitalequity.claytoncountyga.gov
X-WR-CALDESC:Events for Clayton County&#039;s Digital Equity Initiative
REFRESH-INTERVAL;VALUE=DURATION:PT1H
X-Robots-Tag:noindex
X-PUBLISHED-TTL:PT1H
BEGIN:VTIMEZONE
TZID:America/New_York
BEGIN:DAYLIGHT
TZOFFSETFROM:-0500
TZOFFSETTO:-0400
TZNAME:EDT
DTSTART:20220313T070000
END:DAYLIGHT
BEGIN:STANDARD
TZOFFSETFROM:-0400
TZOFFSETTO:-0500
TZNAME:EST
DTSTART:20221106T060000
END:STANDARD
BEGIN:DAYLIGHT
TZOFFSETFROM:-0500
TZOFFSETTO:-0400
TZNAME:EDT
DTSTART:20230312T070000
END:DAYLIGHT
BEGIN:STANDARD
TZOFFSETFROM:-0400
TZOFFSETTO:-0500
TZNAME:EST
DTSTART:20231105T060000
END:STANDARD
BEGIN:DAYLIGHT
TZOFFSETFROM:-0500
TZOFFSETTO:-0400
TZNAME:EDT
DTSTART:20240310T070000
END:DAYLIGHT
BEGIN:STANDARD
TZOFFSETFROM:-0400
TZOFFSETTO:-0500
TZNAME:EST
DTSTART:20241103T060000
END:STANDARD
END:VTIMEZONE
BEGIN:VEVENT
DTSTART;TZID=America/New_York:20230131T090000
DTEND;TZID=America/New_York:20230131T113000
DTSTAMP:20260425T182133
CREATED:20230117T195206Z
LAST-MODIFIED:20230320T150927Z
UID:809-1675155600-1675164600@digitalequity.claytoncountyga.gov
SUMMARY:Navigating Your PC Training
DESCRIPTION:Frank Bailey Senior Center\n6213 Riverdale Road\nRiverdale\, GA 30296 \nThank you for your interest in our Navigating Your PC training. This course will cover the basic components of a computers\, the Windows 10/11 Operating System\, computer software and programs\, creating documents\, and organizing files and folders. You are welcome to bring your own laptop\, but laptops will be available at the training location.
URL:https://digitalequity.claytoncountyga.gov/event/navigating-your-pc-training-10/
LOCATION:Frank Bailey Senior Center\, 6213 Riverdale Road\, Riverdale\, GA\, 30274\, United States
END:VEVENT
BEGIN:VEVENT
DTSTART;TZID=America/New_York:20230131T130000
DTEND;TZID=America/New_York:20230131T160000
DTSTAMP:20260425T182133
CREATED:20230117T154200Z
LAST-MODIFIED:20230117T154403Z
UID:805-1675170000-1675180800@digitalequity.claytoncountyga.gov
SUMMARY:ACP Sign-Up at Frank Bailey Senior Center
DESCRIPTION:Frank Bailey Senior Center\n6213 Riverdale Road\nRiverdale\, GA 30296 \nYour Office of Digital Equity will be available to assist you with applying for the Affordable Connectivity Program (ACP)\, a federally funded program that provides a $30/month discount on home internet or mobile service for qualified households.\n\nPlease bring required documents: Valid Identification\, Proof of Income\, and Proof of Participation in a Government Assistance Program.
URL:https://digitalequity.claytoncountyga.gov/event/acp-sign-up-event-at-frank-bailey-senior-center/
LOCATION:Frank Bailey Senior Center\, 6213 Riverdale Road\, Riverdale\, GA\, 30274\, United States
END:VEVENT
END:VCALENDAR