BEGIN:VCALENDAR
VERSION:2.0
PRODID:-//Clayton County&#039;s Digital Equity Initiative - ECPv6.15.17//NONSGML v1.0//EN
CALSCALE:GREGORIAN
METHOD:PUBLISH
X-ORIGINAL-URL:https://digitalequity.claytoncountyga.gov
X-WR-CALDESC:Events for Clayton County&#039;s Digital Equity Initiative
REFRESH-INTERVAL;VALUE=DURATION:PT1H
X-Robots-Tag:noindex
X-PUBLISHED-TTL:PT1H
BEGIN:VTIMEZONE
TZID:America/New_York
BEGIN:DAYLIGHT
TZOFFSETFROM:-0500
TZOFFSETTO:-0400
TZNAME:EDT
DTSTART:20220313T070000
END:DAYLIGHT
BEGIN:STANDARD
TZOFFSETFROM:-0400
TZOFFSETTO:-0500
TZNAME:EST
DTSTART:20221106T060000
END:STANDARD
BEGIN:DAYLIGHT
TZOFFSETFROM:-0500
TZOFFSETTO:-0400
TZNAME:EDT
DTSTART:20230312T070000
END:DAYLIGHT
BEGIN:STANDARD
TZOFFSETFROM:-0400
TZOFFSETTO:-0500
TZNAME:EST
DTSTART:20231105T060000
END:STANDARD
BEGIN:DAYLIGHT
TZOFFSETFROM:-0500
TZOFFSETTO:-0400
TZNAME:EDT
DTSTART:20240310T070000
END:DAYLIGHT
BEGIN:STANDARD
TZOFFSETFROM:-0400
TZOFFSETTO:-0500
TZNAME:EST
DTSTART:20241103T060000
END:STANDARD
END:VTIMEZONE
BEGIN:VEVENT
DTSTART;TZID=America/New_York:20230318T100000
DTEND;TZID=America/New_York:20230318T120000
DTSTAMP:20260424T104437
CREATED:20230223T225907Z
LAST-MODIFIED:20230306T220305Z
UID:904-1679133600-1679140800@digitalequity.claytoncountyga.gov
SUMMARY:ACP Sign-Up at Jonesboro Middle School
DESCRIPTION:Jonesboro Middle School\n1308 Arnold Street\nJonesboro\, GA 30236 \n \nThe Clayton County Office of Digital Equity will be available to assist participants of the Family Learning Workshop with applying for the Affordable Connectivity Program (ACP)\, a federally funded program that provides a $30 discount on home internet or mobile service for qualified households.\n\nPlease bring required documents: Valid Identification\, Proof of Income\, and Proof of Participation in a Government Assistance Program.
URL:https://digitalequity.claytoncountyga.gov/event/acp-sign-up-at-jonesboro-middle-school/
LOCATION:Jonesboro Middle School\, 1308 Arnold Street\, Jonesboro\, GA\, 30236\, United States
END:VEVENT
END:VCALENDAR