BEGIN:VCALENDAR
VERSION:2.0
PRODID:-//Clayton County&#039;s Digital Equity Initiative - ECPv6.15.17//NONSGML v1.0//EN
CALSCALE:GREGORIAN
METHOD:PUBLISH
X-WR-CALNAME:Clayton County&#039;s Digital Equity Initiative
X-ORIGINAL-URL:https://digitalequity.claytoncountyga.gov
X-WR-CALDESC:Events for Clayton County&#039;s Digital Equity Initiative
REFRESH-INTERVAL;VALUE=DURATION:PT1H
X-Robots-Tag:noindex
X-PUBLISHED-TTL:PT1H
BEGIN:VTIMEZONE
TZID:America/New_York
BEGIN:DAYLIGHT
TZOFFSETFROM:-0500
TZOFFSETTO:-0400
TZNAME:EDT
DTSTART:20220313T070000
END:DAYLIGHT
BEGIN:STANDARD
TZOFFSETFROM:-0400
TZOFFSETTO:-0500
TZNAME:EST
DTSTART:20221106T060000
END:STANDARD
BEGIN:DAYLIGHT
TZOFFSETFROM:-0500
TZOFFSETTO:-0400
TZNAME:EDT
DTSTART:20230312T070000
END:DAYLIGHT
BEGIN:STANDARD
TZOFFSETFROM:-0400
TZOFFSETTO:-0500
TZNAME:EST
DTSTART:20231105T060000
END:STANDARD
BEGIN:DAYLIGHT
TZOFFSETFROM:-0500
TZOFFSETTO:-0400
TZNAME:EDT
DTSTART:20240310T070000
END:DAYLIGHT
BEGIN:STANDARD
TZOFFSETFROM:-0400
TZOFFSETTO:-0500
TZNAME:EST
DTSTART:20241103T060000
END:STANDARD
END:VTIMEZONE
BEGIN:VEVENT
DTSTART;TZID=America/New_York:20230322T090000
DTEND;TZID=America/New_York:20230322T120000
DTSTAMP:20260424T103647
CREATED:20230301T220121Z
LAST-MODIFIED:20230301T220121Z
UID:928-1679475600-1679486400@digitalequity.claytoncountyga.gov
SUMMARY:Microsoft Excel Training
DESCRIPTION:Forest Park Library\n4812 West Street\nForest Park\, GA 30297 \nThank you for your interest in our Microsoft Excel course. This course will cover the basics of Excel: anatomy of the spreadsheet and ribbon\, formatting and sorting data\, simple calculations\, linking worksheets\, and inserting charts and images. You are welcome to bring your own laptop\, but computers will be available at the training location.
URL:https://digitalequity.claytoncountyga.gov/event/microsoft-excel-training-2/
LOCATION:Forest Park Library\, 4812 West Street\, Forest Park\, GA\, United States
END:VEVENT
END:VCALENDAR