BEGIN:VCALENDAR
VERSION:2.0
PRODID:-//Clayton County&#039;s Digital Equity Initiative - ECPv6.15.17//NONSGML v1.0//EN
CALSCALE:GREGORIAN
METHOD:PUBLISH
X-WR-CALNAME:Clayton County&#039;s Digital Equity Initiative
X-ORIGINAL-URL:https://digitalequity.claytoncountyga.gov
X-WR-CALDESC:Events for Clayton County&#039;s Digital Equity Initiative
REFRESH-INTERVAL;VALUE=DURATION:PT1H
X-Robots-Tag:noindex
X-PUBLISHED-TTL:PT1H
BEGIN:VTIMEZONE
TZID:America/New_York
BEGIN:DAYLIGHT
TZOFFSETFROM:-0500
TZOFFSETTO:-0400
TZNAME:EDT
DTSTART:20220313T070000
END:DAYLIGHT
BEGIN:STANDARD
TZOFFSETFROM:-0400
TZOFFSETTO:-0500
TZNAME:EST
DTSTART:20221106T060000
END:STANDARD
BEGIN:DAYLIGHT
TZOFFSETFROM:-0500
TZOFFSETTO:-0400
TZNAME:EDT
DTSTART:20230312T070000
END:DAYLIGHT
BEGIN:STANDARD
TZOFFSETFROM:-0400
TZOFFSETTO:-0500
TZNAME:EST
DTSTART:20231105T060000
END:STANDARD
BEGIN:DAYLIGHT
TZOFFSETFROM:-0500
TZOFFSETTO:-0400
TZNAME:EDT
DTSTART:20240310T070000
END:DAYLIGHT
BEGIN:STANDARD
TZOFFSETFROM:-0400
TZOFFSETTO:-0500
TZNAME:EST
DTSTART:20241103T060000
END:STANDARD
END:VTIMEZONE
BEGIN:VEVENT
DTSTART;TZID=America/New_York:20230407T133000
DTEND;TZID=America/New_York:20230407T160000
DTSTAMP:20260424T103638
CREATED:20230320T150912Z
LAST-MODIFIED:20230405T172151Z
UID:957-1680874200-1680883200@digitalequity.claytoncountyga.gov
SUMMARY:Navigating Your PC Training
DESCRIPTION:Sonna Singleton Gregory Senior Center\n3215 Anvil Block Road\nEllenwood\, GA 30294 \nThank you for your interest in our Navigating Your PC training. This course will cover the basic components of a computers\, the Windows 10/11 Operating System\, computer software and programs\, creating documents\, and organizing files and folders. You are welcome to bring your own laptop\, but laptops will be available at the training location.
URL:https://digitalequity.claytoncountyga.gov/event/957/
LOCATION:Sonna Singleton Gregory Senior Center\, 3215 Anvil Block Rd.\, Ellenwood\, GA\, 30294\, United States
END:VEVENT
END:VCALENDAR