BEGIN:VCALENDAR
VERSION:2.0
PRODID:-//Clayton County&#039;s Digital Equity Initiative - ECPv6.15.17//NONSGML v1.0//EN
CALSCALE:GREGORIAN
METHOD:PUBLISH
X-ORIGINAL-URL:https://digitalequity.claytoncountyga.gov
X-WR-CALDESC:Events for Clayton County&#039;s Digital Equity Initiative
REFRESH-INTERVAL;VALUE=DURATION:PT1H
X-Robots-Tag:noindex
X-PUBLISHED-TTL:PT1H
BEGIN:VTIMEZONE
TZID:America/New_York
BEGIN:DAYLIGHT
TZOFFSETFROM:-0500
TZOFFSETTO:-0400
TZNAME:EDT
DTSTART:20220313T070000
END:DAYLIGHT
BEGIN:STANDARD
TZOFFSETFROM:-0400
TZOFFSETTO:-0500
TZNAME:EST
DTSTART:20221106T060000
END:STANDARD
BEGIN:DAYLIGHT
TZOFFSETFROM:-0500
TZOFFSETTO:-0400
TZNAME:EDT
DTSTART:20230312T070000
END:DAYLIGHT
BEGIN:STANDARD
TZOFFSETFROM:-0400
TZOFFSETTO:-0500
TZNAME:EST
DTSTART:20231105T060000
END:STANDARD
BEGIN:DAYLIGHT
TZOFFSETFROM:-0500
TZOFFSETTO:-0400
TZNAME:EDT
DTSTART:20240310T070000
END:DAYLIGHT
BEGIN:STANDARD
TZOFFSETFROM:-0400
TZOFFSETTO:-0500
TZNAME:EST
DTSTART:20241103T060000
END:STANDARD
END:VTIMEZONE
BEGIN:VEVENT
DTSTART;TZID=America/New_York:20230509T110000
DTEND;TZID=America/New_York:20230509T150000
DTSTAMP:20260424T132131
CREATED:20230414T212740Z
LAST-MODIFIED:20230705T162913Z
UID:1027-1683630000-1683644400@digitalequity.claytoncountyga.gov
SUMMARY:ACP Sign-Up at "Clayton the Great!" Industrial Block Party
DESCRIPTION:The Clayton County Office of Economic Development invites all Clayton County residents\, employees\, and business owners to join in for the kickoff of Economic Development Week 2023 with a “Clayton the Great” themed Industrial Block Party on Tuesday\, May 9\, 2023\, from 11 a.m. – 3 p.m. at Clayton County’s largest job hub\, Gillem Logistics Center\, 2145 Anvil Block Rd.\, Forest Park\, GA 30294 (Amazon’s back parking lot). #Claytonconnected \nRegister online to attend the Block Party at: https://claytoncountyindustrialblockpartykickoff.eventbrite.com \nYour Office of Digital Equity will be available to assist you with applying for the Affordable Connectivity Program (ACP)\, a federally funded program that provides a $30/month discount on home internet or mobile phone service for qualified households. Please visit our table\, we look forward to assisting you. Required documents for ACP application: Valid Identification\, Proof of Income\, and Proof of Participation in a Government Assistance Program.
URL:https://digitalequity.claytoncountyga.gov/event/clayton-the-great-industrial-block-party/
LOCATION:Gilem Logistics Center\, 2145 Anvil Block Road\, Forest Park\, GA\, United States
END:VEVENT
END:VCALENDAR