BEGIN:VCALENDAR
VERSION:2.0
PRODID:-//Clayton County&#039;s Digital Equity Initiative - ECPv6.15.17//NONSGML v1.0//EN
CALSCALE:GREGORIAN
METHOD:PUBLISH
X-ORIGINAL-URL:https://digitalequity.claytoncountyga.gov
X-WR-CALDESC:Events for Clayton County&#039;s Digital Equity Initiative
REFRESH-INTERVAL;VALUE=DURATION:PT1H
X-Robots-Tag:noindex
X-PUBLISHED-TTL:PT1H
BEGIN:VTIMEZONE
TZID:America/New_York
BEGIN:DAYLIGHT
TZOFFSETFROM:-0500
TZOFFSETTO:-0400
TZNAME:EDT
DTSTART:20220313T070000
END:DAYLIGHT
BEGIN:STANDARD
TZOFFSETFROM:-0400
TZOFFSETTO:-0500
TZNAME:EST
DTSTART:20221106T060000
END:STANDARD
BEGIN:DAYLIGHT
TZOFFSETFROM:-0500
TZOFFSETTO:-0400
TZNAME:EDT
DTSTART:20230312T070000
END:DAYLIGHT
BEGIN:STANDARD
TZOFFSETFROM:-0400
TZOFFSETTO:-0500
TZNAME:EST
DTSTART:20231105T060000
END:STANDARD
BEGIN:DAYLIGHT
TZOFFSETFROM:-0500
TZOFFSETTO:-0400
TZNAME:EDT
DTSTART:20240310T070000
END:DAYLIGHT
BEGIN:STANDARD
TZOFFSETFROM:-0400
TZOFFSETTO:-0500
TZNAME:EST
DTSTART:20241103T060000
END:STANDARD
END:VTIMEZONE
BEGIN:VEVENT
DTSTART;TZID=America/New_York:20230517T103000
DTEND;TZID=America/New_York:20230517T120000
DTSTAMP:20260424T131840
CREATED:20230420T203708Z
LAST-MODIFIED:20230420T204506Z
UID:1077-1684319400-1684324800@digitalequity.claytoncountyga.gov
SUMMARY:Protecting Your PC Training
DESCRIPTION:Frank Bailey Senior Center\n6213 Riverdale Road\nRiverdale\, GA 30296 \nThank you for your interest in our Protecting Your PC training. This course will cover the basics of keeping your device safe\, physically and virtually\, as well as tips on browsing the internet safely and sending and receiving emails safely. You are welcome to bring your own laptop\, but laptops will be available at the training location. \n \n  \n 
URL:https://digitalequity.claytoncountyga.gov/event/protecting-your-pc-training-16/
LOCATION:Frank Bailey Senior Center\, 6213 Riverdale Road\, Riverdale\, GA\, 30274\, United States
END:VEVENT
END:VCALENDAR