BEGIN:VCALENDAR
VERSION:2.0
PRODID:-//Clayton County&#039;s Digital Equity Initiative - ECPv6.15.17//NONSGML v1.0//EN
CALSCALE:GREGORIAN
METHOD:PUBLISH
X-ORIGINAL-URL:https://digitalequity.claytoncountyga.gov
X-WR-CALDESC:Events for Clayton County&#039;s Digital Equity Initiative
REFRESH-INTERVAL;VALUE=DURATION:PT1H
X-Robots-Tag:noindex
X-PUBLISHED-TTL:PT1H
BEGIN:VTIMEZONE
TZID:America/New_York
BEGIN:DAYLIGHT
TZOFFSETFROM:-0500
TZOFFSETTO:-0400
TZNAME:EDT
DTSTART:20230312T070000
END:DAYLIGHT
BEGIN:STANDARD
TZOFFSETFROM:-0400
TZOFFSETTO:-0500
TZNAME:EST
DTSTART:20231105T060000
END:STANDARD
BEGIN:DAYLIGHT
TZOFFSETFROM:-0500
TZOFFSETTO:-0400
TZNAME:EDT
DTSTART:20240310T070000
END:DAYLIGHT
BEGIN:STANDARD
TZOFFSETFROM:-0400
TZOFFSETTO:-0500
TZNAME:EST
DTSTART:20241103T060000
END:STANDARD
BEGIN:DAYLIGHT
TZOFFSETFROM:-0500
TZOFFSETTO:-0400
TZNAME:EDT
DTSTART:20250309T070000
END:DAYLIGHT
BEGIN:STANDARD
TZOFFSETFROM:-0400
TZOFFSETTO:-0500
TZNAME:EST
DTSTART:20251102T060000
END:STANDARD
END:VTIMEZONE
BEGIN:VEVENT
DTSTART;TZID=America/New_York:20240125T090000
DTEND;TZID=America/New_York:20240125T120000
DTSTAMP:20260425T062853
CREATED:20240108T203159Z
LAST-MODIFIED:20240109T152423Z
UID:1892-1706173200-1706184000@digitalequity.claytoncountyga.gov
SUMMARY:Protect Your Digital Identity
DESCRIPTION:Frank Bailey Senior Center\n6213 Riverdale Road\nRiverdale\, GA 30296 \nIt’s easy to stay safe online when you’re able to recognize digital red flags. Join us as we discuss tips and methods to keep you protected when using technology\, including cell phones\, tablets\, laptops and personal computers. \nMasks are not required\, but are recommended.
URL:https://digitalequity.claytoncountyga.gov/event/protect-your-digital-identity-training-2/
LOCATION:Frank Bailey Senior Center\, 6213 Riverdale Road\, Riverdale\, GA\, 30274\, United States
END:VEVENT
END:VCALENDAR