BEGIN:VCALENDAR
VERSION:2.0
PRODID:-//Clayton County&#039;s Digital Equity Initiative - ECPv6.15.17//NONSGML v1.0//EN
CALSCALE:GREGORIAN
METHOD:PUBLISH
X-WR-CALNAME:Clayton County&#039;s Digital Equity Initiative
X-ORIGINAL-URL:https://digitalequity.claytoncountyga.gov
X-WR-CALDESC:Events for Clayton County&#039;s Digital Equity Initiative
REFRESH-INTERVAL;VALUE=DURATION:PT1H
X-Robots-Tag:noindex
X-PUBLISHED-TTL:PT1H
BEGIN:VTIMEZONE
TZID:America/New_York
BEGIN:DAYLIGHT
TZOFFSETFROM:-0500
TZOFFSETTO:-0400
TZNAME:EDT
DTSTART:20230312T070000
END:DAYLIGHT
BEGIN:STANDARD
TZOFFSETFROM:-0400
TZOFFSETTO:-0500
TZNAME:EST
DTSTART:20231105T060000
END:STANDARD
BEGIN:DAYLIGHT
TZOFFSETFROM:-0500
TZOFFSETTO:-0400
TZNAME:EDT
DTSTART:20240310T070000
END:DAYLIGHT
BEGIN:STANDARD
TZOFFSETFROM:-0400
TZOFFSETTO:-0500
TZNAME:EST
DTSTART:20241103T060000
END:STANDARD
BEGIN:DAYLIGHT
TZOFFSETFROM:-0500
TZOFFSETTO:-0400
TZNAME:EDT
DTSTART:20250309T070000
END:DAYLIGHT
BEGIN:STANDARD
TZOFFSETFROM:-0400
TZOFFSETTO:-0500
TZNAME:EST
DTSTART:20251102T060000
END:STANDARD
END:VTIMEZONE
BEGIN:VEVENT
DTSTART;TZID=America/New_York:20241007T080000
DTEND;TZID=America/New_York:20241012T170000
DTSTAMP:20260425T062853
CREATED:20240731T182348Z
LAST-MODIFIED:20241002T183832Z
UID:2424-1728288000-1728752400@digitalequity.claytoncountyga.gov
SUMMARY:2024 Digital Inclusion Week
DESCRIPTION:Join us for the week long celebration of National Digital Inclusion Week\, from October 7 – 12\, 2024. We will be raising awareness\, increasing outreach in the community\, celebrating digital equity wins and providing free information and giveaways for our residents. View our calendar of events and register to attend an event at various locations around the County. Registration is limited and required for all events. \nCheck back regularly for an updated list of events. Click to register for confirmed #DIW24 events. \nOctober 7\, 2024 – Woodforest Bank Lunch-n-Learn at 10:00am – 12:00pm\nOctober 9\, 2024 – GOVChats ‘Georgia + Digital Inclusion’ Webinar 11:00am – 12:00pm\nOctober 9\, 2024 – Cybersecurity Awareness: Protect Your Digital Identity 3:30pm – 5:00pm\nOctober 10\, 2024 – Navigating Technology Training at Sonna Singleton Gregory Senior Center 9:30am – 11:00am\nOctober 10\, 2024 – Delta Community Credit Union Lunch-n-Learn 10:00am – 12:00pm\nOctober 12\, 2024 – 2nd Annual Office of Digital Equity Community Block Party at 10:00am – 02:00pm
URL:https://digitalequity.claytoncountyga.gov/event/2024-digital-inclusion-week/
LOCATION:Technology Services & Training Center\, 9181 Poston Road\, Jonesboro\, GA\, 30238\, United States
END:VEVENT
END:VCALENDAR