BEGIN:VCALENDAR
VERSION:2.0
PRODID:-//Clayton County&#039;s Digital Equity Initiative - ECPv6.15.17//NONSGML v1.0//EN
CALSCALE:GREGORIAN
METHOD:PUBLISH
X-WR-CALNAME:Clayton County&#039;s Digital Equity Initiative
X-ORIGINAL-URL:https://digitalequity.claytoncountyga.gov
X-WR-CALDESC:Events for Clayton County&#039;s Digital Equity Initiative
REFRESH-INTERVAL;VALUE=DURATION:PT1H
X-Robots-Tag:noindex
X-PUBLISHED-TTL:PT1H
BEGIN:VTIMEZONE
TZID:America/New_York
BEGIN:DAYLIGHT
TZOFFSETFROM:-0500
TZOFFSETTO:-0400
TZNAME:EDT
DTSTART:20240310T070000
END:DAYLIGHT
BEGIN:STANDARD
TZOFFSETFROM:-0400
TZOFFSETTO:-0500
TZNAME:EST
DTSTART:20241103T060000
END:STANDARD
BEGIN:DAYLIGHT
TZOFFSETFROM:-0500
TZOFFSETTO:-0400
TZNAME:EDT
DTSTART:20250309T070000
END:DAYLIGHT
BEGIN:STANDARD
TZOFFSETFROM:-0400
TZOFFSETTO:-0500
TZNAME:EST
DTSTART:20251102T060000
END:STANDARD
BEGIN:DAYLIGHT
TZOFFSETFROM:-0500
TZOFFSETTO:-0400
TZNAME:EDT
DTSTART:20260308T070000
END:DAYLIGHT
BEGIN:STANDARD
TZOFFSETFROM:-0400
TZOFFSETTO:-0500
TZNAME:EST
DTSTART:20261101T060000
END:STANDARD
END:VTIMEZONE
BEGIN:VEVENT
DTSTART;TZID=America/New_York:20250416T111500
DTEND;TZID=America/New_York:20250416T131500
DTSTAMP:20260422T150802
CREATED:20250325T192324Z
LAST-MODIFIED:20250408T151643Z
UID:3126-1744802100-1744809300@digitalequity.claytoncountyga.gov
SUMMARY:Navigating Technology
DESCRIPTION:Harvest Village\n1974 Walt Stephens Road\nJonesboro\, GA 30236 \nThank you for your interest in our Navigating Technology course. This course will cover various computer-based topics\, including the basics of navigating your PC\, laptop\, Apple iPhone and Apple iPad\, as well as provide you with tips on protecting your digital identity. This will be a hands-on learning experience. You are encouraged to bring your own devices. Laptops will be available to utilize during training\, if needed. \nPLEASE NOTE: This course will familiarize you with operating Windows based computers and laptops and Apple iPhones and iPads\, not Android or Google devices or MacBooks.
URL:https://digitalequity.claytoncountyga.gov/event/navigating-technology-74/
LOCATION:Harvest Village\, 1974 Walt Stephens Road\, Jonesboro\, GA\, 30236\, United States
END:VEVENT
END:VCALENDAR