BEGIN:VCALENDAR
VERSION:2.0
PRODID:-//Clayton County&#039;s Digital Equity Initiative - ECPv6.15.17//NONSGML v1.0//EN
CALSCALE:GREGORIAN
METHOD:PUBLISH
X-WR-CALNAME:Clayton County&#039;s Digital Equity Initiative
X-ORIGINAL-URL:https://digitalequity.claytoncountyga.gov
X-WR-CALDESC:Events for Clayton County&#039;s Digital Equity Initiative
REFRESH-INTERVAL;VALUE=DURATION:PT1H
X-Robots-Tag:noindex
X-PUBLISHED-TTL:PT1H
BEGIN:VTIMEZONE
TZID:America/New_York
BEGIN:DAYLIGHT
TZOFFSETFROM:-0500
TZOFFSETTO:-0400
TZNAME:EDT
DTSTART:20240310T070000
END:DAYLIGHT
BEGIN:STANDARD
TZOFFSETFROM:-0400
TZOFFSETTO:-0500
TZNAME:EST
DTSTART:20241103T060000
END:STANDARD
BEGIN:DAYLIGHT
TZOFFSETFROM:-0500
TZOFFSETTO:-0400
TZNAME:EDT
DTSTART:20250309T070000
END:DAYLIGHT
BEGIN:STANDARD
TZOFFSETFROM:-0400
TZOFFSETTO:-0500
TZNAME:EST
DTSTART:20251102T060000
END:STANDARD
BEGIN:DAYLIGHT
TZOFFSETFROM:-0500
TZOFFSETTO:-0400
TZNAME:EDT
DTSTART:20260308T070000
END:DAYLIGHT
BEGIN:STANDARD
TZOFFSETFROM:-0400
TZOFFSETTO:-0500
TZNAME:EST
DTSTART:20261101T060000
END:STANDARD
END:VTIMEZONE
BEGIN:VEVENT
DTSTART;TZID=America/New_York:20250512T110000
DTEND;TZID=America/New_York:20250516T130000
DTSTAMP:20260425T065838
CREATED:20250508T220037Z
LAST-MODIFIED:20250508T220037Z
UID:3496-1747047600-1747400400@digitalequity.claytoncountyga.gov
SUMMARY:Job Readiness Week
DESCRIPTION:Library Headquarters\n865 Battle Creek Road\nJonesboro\, GA 30236 \nJoin our partners at the Clayton County Library System for a week of job readiness programming\, in preparation for the 2025 Community and Veterans Career Fair on Saturday\, May 17\, 2025. There are six separate trainings throughout the week\, of which three will be facilitated by the Office of Digital Equity: Microsoft Word\, Microsoft Exel\, and Microsoft PowerPoint. Registration is limited and required for all classes at https://tinyurl.com/jobreadinessweek. \n \n 
URL:https://digitalequity.claytoncountyga.gov/event/job-readiness-week/
LOCATION:Library Headquarters\, 865 Battle Creek Rd.\, Jonesboro\, GA\, 30236\, United States
END:VEVENT
BEGIN:VEVENT
DTSTART;TZID=America/New_York:20250515T093000
DTEND;TZID=America/New_York:20250515T110000
DTSTAMP:20260425T065838
CREATED:20250508T225410Z
LAST-MODIFIED:20250508T225721Z
UID:3534-1747301400-1747306800@digitalequity.claytoncountyga.gov
SUMMARY:Navigating Technology
DESCRIPTION:*****You MUST be a paid member of a Clayton County Senior Services Center to attend this training.*****\nSonna Singleton Gregory Senior Center\n3215 Anvil Block Road\nEllenwood\, GA 30294 \nThank you for your interest in attending free computer training at the Sonna Singleton Gregory Senior Center. This course will explore various computer-based topics each week\, such as the basics of navigating your PC\, laptop\, Apple iPhone and Apple iPad\, as well as provide you with tips on protecting your digital identity\, helping you to gain confidence in utilizing technology and digital devices.  This will be a hands-on learning experience. You are encouraged to bring your own devices. Laptops will be available to utilize during training\, if needed. Regiszter to attend at https://myactivecenter.com/. \nPLEASE NOTE: This course will familiarize you with operating Windows based computers and laptops and Apple iPhones and iPads\, not Android or Google devices or MacBooks. \nMasks are recommended but not required.
URL:https://digitalequity.claytoncountyga.gov/event/navigating-technology-80/
LOCATION:Sonna Singleton Gregory Senior Center\, 3215 Anvil Block Rd.\, Ellenwood\, GA\, 30294\, United States
END:VEVENT
BEGIN:VEVENT
DTSTART;TZID=America/New_York:20250515T180000
DTEND;TZID=America/New_York:20250515T200000
DTSTAMP:20260425T065838
CREATED:20250417T162408Z
LAST-MODIFIED:20250512T160843Z
UID:3288-1747332000-1747339200@digitalequity.claytoncountyga.gov
SUMMARY:Introduction to A.I. and ChatGPT
DESCRIPTION:South Clayton Recreation Center\n1837 McDonough Road\nHampton\, GA 30228 \nThis course will cover the fundamentals of conversational AI\, leveraging ChatGPT for various applications\, and practical techniques for crafting effective prompts\, while enhancing user engagement\, and troubleshooting common issues. Whether you’re a beginner or looking to refine your skills\, this class will equip you with the tools to harness the power of AI in your projects and deepen your understanding of ChatGPT. \nMasks are recommended but not required.
URL:https://digitalequity.claytoncountyga.gov/event/introduction-to-a-i-and-chatgpt-3/
LOCATION:South Clayton Recreation Center\, 1837 McDonough Rd.\, Hampton\, GA\, 30228\, United States
END:VEVENT
END:VCALENDAR