BEGIN:VCALENDAR
VERSION:2.0
PRODID:-//Clayton County&#039;s Digital Equity Initiative - ECPv6.15.17//NONSGML v1.0//EN
CALSCALE:GREGORIAN
METHOD:PUBLISH
X-WR-CALNAME:Clayton County&#039;s Digital Equity Initiative
X-ORIGINAL-URL:https://digitalequity.claytoncountyga.gov
X-WR-CALDESC:Events for Clayton County&#039;s Digital Equity Initiative
REFRESH-INTERVAL;VALUE=DURATION:PT1H
X-Robots-Tag:noindex
X-PUBLISHED-TTL:PT1H
BEGIN:VTIMEZONE
TZID:America/New_York
BEGIN:DAYLIGHT
TZOFFSETFROM:-0500
TZOFFSETTO:-0400
TZNAME:EDT
DTSTART:20240310T070000
END:DAYLIGHT
BEGIN:STANDARD
TZOFFSETFROM:-0400
TZOFFSETTO:-0500
TZNAME:EST
DTSTART:20241103T060000
END:STANDARD
BEGIN:DAYLIGHT
TZOFFSETFROM:-0500
TZOFFSETTO:-0400
TZNAME:EDT
DTSTART:20250309T070000
END:DAYLIGHT
BEGIN:STANDARD
TZOFFSETFROM:-0400
TZOFFSETTO:-0500
TZNAME:EST
DTSTART:20251102T060000
END:STANDARD
BEGIN:DAYLIGHT
TZOFFSETFROM:-0500
TZOFFSETTO:-0400
TZNAME:EDT
DTSTART:20260308T070000
END:DAYLIGHT
BEGIN:STANDARD
TZOFFSETFROM:-0400
TZOFFSETTO:-0500
TZNAME:EST
DTSTART:20261101T060000
END:STANDARD
END:VTIMEZONE
BEGIN:VEVENT
DTSTART;TZID=America/New_York:20250512T110000
DTEND;TZID=America/New_York:20250516T130000
DTSTAMP:20260425T062853
CREATED:20250508T220037Z
LAST-MODIFIED:20250508T220037Z
UID:3496-1747047600-1747400400@digitalequity.claytoncountyga.gov
SUMMARY:Job Readiness Week
DESCRIPTION:Library Headquarters\n865 Battle Creek Road\nJonesboro\, GA 30236 \nJoin our partners at the Clayton County Library System for a week of job readiness programming\, in preparation for the 2025 Community and Veterans Career Fair on Saturday\, May 17\, 2025. There are six separate trainings throughout the week\, of which three will be facilitated by the Office of Digital Equity: Microsoft Word\, Microsoft Exel\, and Microsoft PowerPoint. Registration is limited and required for all classes at https://tinyurl.com/jobreadinessweek. \n \n 
URL:https://digitalequity.claytoncountyga.gov/event/job-readiness-week/
LOCATION:Library Headquarters\, 865 Battle Creek Rd.\, Jonesboro\, GA\, 30236\, United States
END:VEVENT
BEGIN:VEVENT
DTSTART;TZID=America/New_York:20250516T110000
DTEND;TZID=America/New_York:20250516T130000
DTSTAMP:20260425T062853
CREATED:20250425T170652Z
LAST-MODIFIED:20250508T222648Z
UID:3474-1747393200-1747400400@digitalequity.claytoncountyga.gov
SUMMARY:2025 Community and Veterans Career Fair Microsoft PowerPoint Training
DESCRIPTION:Library Headquarters\n865 Battle Creek Road\nJonesboro\, GA 30236 \nThank you for your interest in joining us and our partners at the Clayton County Library System for Microsoft PowerPoint training\, in preparation for the 2025 Community and Veterans Career Fair on Saturday\, May 17\, 2025. Registration is limited and required to attend at https://tinyurl.com/jobreadinessweek.
URL:https://digitalequity.claytoncountyga.gov/event/library-job-fair-training-microsoft-powerpoint/
LOCATION:Library Headquarters\, 865 Battle Creek Rd.\, Jonesboro\, GA\, 30236\, United States
END:VEVENT
END:VCALENDAR