BEGIN:VCALENDAR
VERSION:2.0
PRODID:-//Clayton County&#039;s Digital Equity Initiative - ECPv6.15.17//NONSGML v1.0//EN
CALSCALE:GREGORIAN
METHOD:PUBLISH
X-ORIGINAL-URL:https://digitalequity.claytoncountyga.gov
X-WR-CALDESC:Events for Clayton County&#039;s Digital Equity Initiative
REFRESH-INTERVAL;VALUE=DURATION:PT1H
X-Robots-Tag:noindex
X-PUBLISHED-TTL:PT1H
BEGIN:VTIMEZONE
TZID:America/New_York
BEGIN:DAYLIGHT
TZOFFSETFROM:-0500
TZOFFSETTO:-0400
TZNAME:EDT
DTSTART:20240310T070000
END:DAYLIGHT
BEGIN:STANDARD
TZOFFSETFROM:-0400
TZOFFSETTO:-0500
TZNAME:EST
DTSTART:20241103T060000
END:STANDARD
BEGIN:DAYLIGHT
TZOFFSETFROM:-0500
TZOFFSETTO:-0400
TZNAME:EDT
DTSTART:20250309T070000
END:DAYLIGHT
BEGIN:STANDARD
TZOFFSETFROM:-0400
TZOFFSETTO:-0500
TZNAME:EST
DTSTART:20251102T060000
END:STANDARD
BEGIN:DAYLIGHT
TZOFFSETFROM:-0500
TZOFFSETTO:-0400
TZNAME:EDT
DTSTART:20260308T070000
END:DAYLIGHT
BEGIN:STANDARD
TZOFFSETFROM:-0400
TZOFFSETTO:-0500
TZNAME:EST
DTSTART:20261101T060000
END:STANDARD
END:VTIMEZONE
BEGIN:VEVENT
DTSTART;TZID=America/New_York:20250519T130000
DTEND;TZID=America/New_York:20250519T150000
DTSTAMP:20260425T065916
CREATED:20250418T192704Z
LAST-MODIFIED:20250508T224046Z
UID:3309-1747659600-1747666800@digitalequity.claytoncountyga.gov
SUMMARY:Microsoft Excel II
DESCRIPTION:Morrow Library\n6225 Maddox Road\nMorrow\, GA 30260 \nThank you for your interest in our Microsoft Excel course. This course will dive into advanced shortcuts\, the IF\, CONCAT\, and XLOOKUP functions and additional useful tips. Taking our Excel I class OR having a basic knowledge of the Excel interface is a prerequisite for this course. You are welcome to bring your own laptop\, but computers will be available at the training location. \nMasks are recommended but not required.
URL:https://digitalequity.claytoncountyga.gov/event/microsoft-excel-ii-4/
LOCATION:Morrow Library\, 6225 Maddox Road\, Morrow\, 30260\, United States
END:VEVENT
END:VCALENDAR