BEGIN:VCALENDAR
VERSION:2.0
PRODID:-//Clayton County&#039;s Digital Equity Initiative - ECPv6.15.17//NONSGML v1.0//EN
CALSCALE:GREGORIAN
METHOD:PUBLISH
X-ORIGINAL-URL:https://digitalequity.claytoncountyga.gov
X-WR-CALDESC:Events for Clayton County&#039;s Digital Equity Initiative
REFRESH-INTERVAL;VALUE=DURATION:PT1H
X-Robots-Tag:noindex
X-PUBLISHED-TTL:PT1H
BEGIN:VTIMEZONE
TZID:America/New_York
BEGIN:DAYLIGHT
TZOFFSETFROM:-0500
TZOFFSETTO:-0400
TZNAME:EDT
DTSTART:20250309T070000
END:DAYLIGHT
BEGIN:STANDARD
TZOFFSETFROM:-0400
TZOFFSETTO:-0500
TZNAME:EST
DTSTART:20251102T060000
END:STANDARD
BEGIN:DAYLIGHT
TZOFFSETFROM:-0500
TZOFFSETTO:-0400
TZNAME:EDT
DTSTART:20260308T070000
END:DAYLIGHT
BEGIN:STANDARD
TZOFFSETFROM:-0400
TZOFFSETTO:-0500
TZNAME:EST
DTSTART:20261101T060000
END:STANDARD
BEGIN:DAYLIGHT
TZOFFSETFROM:-0500
TZOFFSETTO:-0400
TZNAME:EDT
DTSTART:20270314T070000
END:DAYLIGHT
BEGIN:STANDARD
TZOFFSETFROM:-0400
TZOFFSETTO:-0500
TZNAME:EST
DTSTART:20271107T060000
END:STANDARD
END:VTIMEZONE
BEGIN:VEVENT
DTSTART;TZID=America/New_York:20261010T100000
DTEND;TZID=America/New_York:20261010T140000
DTSTAMP:20260421T154526
CREATED:20260420T193441Z
LAST-MODIFIED:20260420T195346Z
UID:7039-1791626400-1791640800@digitalequity.claytoncountyga.gov
SUMMARY:4th Annual Office of Digital Equity Block Party & eDrive
DESCRIPTION:Technology Services & Training Center\n9181 Poston Road\nJonesboro\, GA 30238
URL:https://digitalequity.claytoncountyga.gov/event/4th-annual-office-of-digital-equity-block-party-edrive/
LOCATION:GA
END:VEVENT
END:VCALENDAR